BEGIN:VCALENDAR
VERSION:2.0
PRODID:-//wp-events-plugin.com//7.2.3.1//EN
TZID:Europe/Berlin
X-WR-TIMEZONE:Europe/Berlin
BEGIN:VEVENT
UID:260@andrewoermann.de
DTSTART;TZID=Europe/Berlin:20231106T150000
DTEND;TZID=Europe/Berlin:20231106T230000
DTSTAMP:20231023T080651Z
URL:https://www.andrewoermann.de/events/uwe-huebner-hitparade-2023/
SUMMARY:UWE HÜBNER HITPARADE 2023
DESCRIPTION:GESCHLOSSENE GESELLSCHAFT/BRANCHEN-TREFF 2023\n\n
ATTACH;FMTTYPE=image/jpeg:https://www.andrewoermann.de/wp-content/uploads/
 2023/10/BRANCHENTREFF-2023.png
END:VEVENT
BEGIN:VTIMEZONE
TZID:Europe/Berlin
X-LIC-LOCATION:Europe/Berlin
BEGIN:STANDARD
DTSTART:20231029T020000
TZOFFSETFROM:+0200
TZOFFSETTO:+0100
TZNAME:CET
END:STANDARD
END:VTIMEZONE
END:VCALENDAR