BEGIN:VCALENDAR
VERSION:2.0
PRODID:-//wp-events-plugin.com//7.2.3.1//EN
TZID:Europe/Berlin
X-WR-TIMEZONE:Europe/Berlin
BEGIN:VEVENT
UID:118@andrewoermann.de
DTSTART;TZID=Europe/Berlin:20230708T180000
DTEND;TZID=Europe/Berlin:20230708T210000
DTSTAMP:20230623T213755Z
URL:https://www.andrewoermann.de/events/sommerfest-witten-herbede/
SUMMARY:Friesenspektakel Jever Krog Witten Herbede
DESCRIPTION:FRiesenspektakel\nSamstag\, 08. Juli 2023\nHerzliche Einladung 
 zu unserem diesjährigen Haus Fest. \nAb 18:00 Uhr Andre Wörmann (Schlage
 r)\n\nWir bitten um Tischreservierung: +49230273605\n
ATTACH;FMTTYPE=image/jpeg:https://www.andrewoermann.de/wp-content/uploads/
 2023/01/Andre_Woermann_Schlagersaenger-2023.jpg
LOCATION:https://www.google.de/maps/place/Jever+Krog/@51.4197465,7.2738986,
 17z/data=!3m1!4b1!4m6!3m5!1s0x47b9205466966fe1:0xd77d942625f988e2!8m2!3d51
 .4197465!4d7.2760873!16s%2Fg%2F1tlw84zh?entry=ttu
END:VEVENT
BEGIN:VTIMEZONE
TZID:Europe/Berlin
X-LIC-LOCATION:Europe/Berlin
BEGIN:DAYLIGHT
DTSTART:20230326T030000
TZOFFSETFROM:+0100
TZOFFSETTO:+0200
TZNAME:CEST
END:DAYLIGHT
END:VTIMEZONE
END:VCALENDAR