BEGIN:VCALENDAR
VERSION:2.0
PRODID:-//wp-events-plugin.com//7.2.3.1//EN
TZID:Europe/Berlin
X-WR-TIMEZONE:Europe/Berlin
BEGIN:VEVENT
UID:376@andrewoermann.de
DTSTART;TZID=Europe/Berlin:20240627T140000
DTEND;TZID=Europe/Berlin:20240627T170000
DTSTAMP:20240617T122810Z
URL:https://www.andrewoermann.de/events/schlagerzeit-mit-andre-oeffentlich
 -dortmund-huckarde/
SUMMARY:!!! Sommerparty mit André - ÖFFENTLICH - Dortmund Huckarde
DESCRIPTION:\n\nAnmeldung:\nStädt. Begegnungszentrum Huckarde\nParsevalstr
 aße 170\,\n44369 Dortmund\nTel. (0231) 39 42 74\nFax (0231) 3 96 01 50\nE
 -Mail: bz_huckarde@dortmund.de\nInternet: www.dortmund.de\nÖffnungszeiten
 :\nMontag bis Freitag 09.00–12.30 Uhr\nund 13.30–17.00 Uhr\nUli Mäfer
 s\nLeiter des Begegnungszentrums\nSo erreichen Sie uns:\nS-Bahnlinie S2 
 – Haltestelle Do-Huckarde\nU-Bahnlinie U47 – Haltestelle Parsevalstra
 ße\nBuslinie 410\, 447\, 461\, 462\, 465 – Haltestelle Oberfeldstraße
ATTACH;FMTTYPE=image/jpeg:https://www.andrewoermann.de/wp-content/uploads/
 2024/06/Huckarde_Juni_2024.jpg
LOCATION:https://www.google.de/maps/place/Parsevalstra%C3%9Fe+170,+44369+Do
 rtmund/@51.5338426,7.4032961,17z/data=!3m1!4b1!4m6!3m5!1s0x47b9197d682dbaa
 3:0xf1c41076a0dd215e!8m2!3d51.5338393!4d7.405871!16s%2Fg%2F11b8v58jkt?entr
 y=ttu
END:VEVENT
BEGIN:VTIMEZONE
TZID:Europe/Berlin
X-LIC-LOCATION:Europe/Berlin
BEGIN:DAYLIGHT
DTSTART:20240331T030000
TZOFFSETFROM:+0100
TZOFFSETTO:+0200
TZNAME:CEST
END:DAYLIGHT
END:VTIMEZONE
END:VCALENDAR