BEGIN:VCALENDAR
VERSION:2.0
PRODID:-//wp-events-plugin.com//7.2.3.1//EN
TZID:Europe/Berlin
X-WR-TIMEZONE:Europe/Berlin
BEGIN:VEVENT
UID:365@andrewoermann.de
DTSTART;TZID=Europe/Berlin:20240618T100000
DTEND;TZID=Europe/Berlin:20240618T120000
DTSTAMP:20240304T073905Z
URL:https://www.andrewoermann.de/events/schlagerzeit-mit-andre-geschlossen
 e-gesellschaft-schwerte-6/
SUMMARY:Schlagerzeit mit André -GESCHLOSSENE GESELLSCHAFT- Schwerte
DESCRIPTION:
ATTACH;FMTTYPE=image/jpeg:https://www.andrewoermann.de/wp-content/uploads/
 2024/01/Cover_DuBistAllesWasIchBraucheMixmaster-JJ-Fox-Mix-scaled.jpg
END:VEVENT
BEGIN:VTIMEZONE
TZID:Europe/Berlin
X-LIC-LOCATION:Europe/Berlin
BEGIN:DAYLIGHT
DTSTART:20240331T030000
TZOFFSETFROM:+0100
TZOFFSETTO:+0200
TZNAME:CEST
END:DAYLIGHT
END:VTIMEZONE
END:VCALENDAR