BEGIN:VCALENDAR
VERSION:2.0
PRODID:-//wp-events-plugin.com//7.2.3.1//EN
TZID:Europe/Berlin
X-WR-TIMEZONE:Europe/Berlin
BEGIN:VEVENT
UID:308@andrewoermann.de
DTSTART;TZID=Europe/Berlin:20240408T143000
DTEND;TZID=Europe/Berlin:20240408T163000
DTSTAMP:20240110T092811Z
URL:https://www.andrewoermann.de/events/schlagerzeit-mit-andre-geschlossen
 e-gesellschaft-bochum/
SUMMARY:Schlagerzeit mit André -GESCHLOSSENE GESELLSCHAFT- Bochum
DESCRIPTION:
ATTACH;FMTTYPE=image/jpeg:https://www.andrewoermann.de/wp-content/uploads/
 2023/07/Unendlich-weit-TV.jpg
END:VEVENT
BEGIN:VTIMEZONE
TZID:Europe/Berlin
X-LIC-LOCATION:Europe/Berlin
BEGIN:DAYLIGHT
DTSTART:20240331T030000
TZOFFSETFROM:+0100
TZOFFSETTO:+0200
TZNAME:CEST
END:DAYLIGHT
END:VTIMEZONE
END:VCALENDAR