BEGIN:VCALENDAR
VERSION:2.0
PRODID:-//wp-events-plugin.com//7.2.3.1//EN
TZID:Europe/Berlin
X-WR-TIMEZONE:Europe/Berlin
BEGIN:VEVENT
UID:71@andrewoermann.de
DTSTART;TZID=Europe/Berlin:20230521T150000
DTEND;TZID=Europe/Berlin:20230521T180000
DTSTAMP:20230331T074347Z
URL:https://www.andrewoermann.de/events/schlagerzeit-mit-andre-45/
SUMMARY:Tanzcafé
DESCRIPTION:
ATTACH;FMTTYPE=image/jpeg:https://www.andrewoermann.de/wp-content/uploads/
 2023/01/Andre-Woermann-2022.jpg
LOCATION:https://www.google.de/maps?q=wohnstift+auf+der+kronenburg&newwindo
 w=1&sxsrf=APwXEdfc4_yvG9d1GN3qN9ctY6ou8sROew:1680247141449&gs_lcp=Cgxnd3Mt
 d2l6LXNlcnAQARgBMgQIIxAnMg4ILhCABBDHARCvARDqBDILCC4QgAQQxwEQrwEyCwguEIAEEM
 cBEK8BMgsILhCABBDHARCvATILCC4QgAQQxwEQrwEyCwguEIAEEMcBEK8BMgsILhCABBDHARCv
 ATILCC4QgAQQxwEQrwEyCwguEIAEEMcBEK8BOgUIABCABDoLCC4QrwEQxwEQgARKBAhBGABQAF
 ioGGCVJGgAcAB4AYAB0g2IAYQpkgELMC4xLjYtMi4xLjGYAQCgAQHAAQE&um=1&ie=UTF-8&sa
 =X&ved=2ahUKEwjYpIWb1IX-AhU-RfEDHXHPBrYQ_AUoAXoECAEQAw
END:VEVENT
BEGIN:VTIMEZONE
TZID:Europe/Berlin
X-LIC-LOCATION:Europe/Berlin
BEGIN:DAYLIGHT
DTSTART:20230326T030000
TZOFFSETFROM:+0100
TZOFFSETTO:+0200
TZNAME:CEST
END:DAYLIGHT
END:VTIMEZONE
END:VCALENDAR