BEGIN:VCALENDAR
VERSION:2.0
PRODID:-//wp-events-plugin.com//7.2.3.1//EN
TZID:Europe/Berlin
X-WR-TIMEZONE:Europe/Berlin
BEGIN:VEVENT
UID:180@andrewoermann.de
DTSTART;TZID=Europe/Berlin:20231207T160000
DTEND;TZID=Europe/Berlin:20231207T200000
DTSTAMP:20231006T050912Z
URL:https://www.andrewoermann.de/events/schlager-trifft-weihnacht-weihnach
 tsmarkt-hagen/
SUMMARY:"SCHLAGER TRIFFT WEIHNACHTEN" - Hagener WEIHNACHTSMARKT / ÖFFENTLI
 CH
DESCRIPTION:Mit: NORMAN LANGEN / VANESSA-KATHARINA / GUIDO WESTERMANN / ANG
 ELIKA EWA TURO / ANNA-VERENA / ANDRE WÖRMANN\n\n
ATTACH;FMTTYPE=image/jpeg:https://www.andrewoermann.de/wp-content/uploads/
 2023/08/Weihnachtsmarkt-Hagen-07_12_2023-ab-1600-scaled.jpg
LOCATION:https://www.google.de/maps/place/Konzertmuschel+im+Volkspark+Hagen
 /@51.3596472,7.4684917,17z/data=!3m1!4b1!4m6!3m5!1s0x47b93b7da2052c7d:0xfb
 3b11e356fe1de1!8m2!3d51.3596439!4d7.4710666!16s%2Fg%2F11b6b7s79j?entry=ttu
END:VEVENT
BEGIN:VTIMEZONE
TZID:Europe/Berlin
X-LIC-LOCATION:Europe/Berlin
BEGIN:STANDARD
DTSTART:20231029T020000
TZOFFSETFROM:+0200
TZOFFSETTO:+0100
TZNAME:CET
END:STANDARD
END:VTIMEZONE
END:VCALENDAR