BEGIN:VCALENDAR
VERSION:2.0
PRODID:-//wp-events-plugin.com//7.2.3.1//EN
TZID:Europe/Berlin
X-WR-TIMEZONE:Europe/Berlin
BEGIN:VEVENT
UID:269@andrewoermann.de
DTSTART;TZID=Europe/Berlin:20240208T191100
DTEND;TZID=Europe/Berlin:20240208T231100
DTSTAMP:20240111T073003Z
URL:https://www.andrewoermann.de/events/karneval-mit-andre-oefentlich-naer
 rischer-rat-damensitzung-westfalenhalle-dortmund-goldsaal/
SUMMARY:KARNEVAL mit Andre - ÖFFENTLICH - Närrischer Rat Damensitzung Wes
 tfalenhalle Dortmund Goldsaal
DESCRIPTION:
ATTACH;FMTTYPE=image/jpeg:https://www.andrewoermann.de/wp-content/uploads/
 2024/01/Damensitzung_08_02_2024.jpg
LOCATION:https://www.google.de/maps/place/Westfalenhalle,+Dortmund-Innensta
 dt-West/@51.4966897,7.4280127,15z/data=!3m1!4b1!4m6!3m5!1s0x47b919ce30c083
 93:0x37ccb08df3f395e3!8m2!3d51.4957667!4d7.4501208!16s%2Fg%2F11b74tf7hf?en
 try=ttu
END:VEVENT
BEGIN:VTIMEZONE
TZID:Europe/Berlin
X-LIC-LOCATION:Europe/Berlin
BEGIN:STANDARD
DTSTART:20231029T020000
TZOFFSETFROM:+0200
TZOFFSETTO:+0100
TZNAME:CET
END:STANDARD
END:VTIMEZONE
END:VCALENDAR