BEGIN:VCALENDAR
VERSION:2.0
PRODID:-//wp-events-plugin.com//7.2.3.1//EN
TZID:Europe/Berlin
X-WR-TIMEZONE:Europe/Berlin
BEGIN:VEVENT
UID:300@andrewoermann.de
DTSTART;TZID=Europe/Berlin:20240318T153000
DTEND;TZID=Europe/Berlin:20240318T173000
DTSTAMP:20240110T092218Z
URL:https://www.andrewoermann.de/events/fruehlingsfest-geschlossene-gesell
 schaft-dortmund-hoerde/
SUMMARY:Frühlingsfest -GESCHLOSSENE GESELLSCHAFT- Dortmund Hörde
DESCRIPTION:
ATTACH;FMTTYPE=image/jpeg:https://www.andrewoermann.de/wp-content/uploads/
 2023/07/Unendlich-weit-TV.jpg
END:VEVENT
BEGIN:VTIMEZONE
TZID:Europe/Berlin
X-LIC-LOCATION:Europe/Berlin
BEGIN:STANDARD
DTSTART:20231029T020000
TZOFFSETFROM:+0200
TZOFFSETTO:+0100
TZNAME:CET
END:STANDARD
END:VTIMEZONE
END:VCALENDAR