BEGIN:VCALENDAR
VERSION:2.0
PRODID:-//wp-events-plugin.com//7.2.3.1//EN
TZID:Europe/Berlin
X-WR-TIMEZONE:Europe/Berlin
BEGIN:VEVENT
UID:508@andrewoermann.de
DTSTART;TZID=Europe/Berlin:20241220T143000
DTEND;TZID=Europe/Berlin:20241220T163000
DTSTAMP:20241218T092553Z
URL:https://www.andrewoermann.de/events/der-schlagerkavalier-in-herne-gesc
 hlossene-gesellschaft-8/
SUMMARY:Der Schlagerkavalier in Herne  -GESCHLOSSENE GESELLSCHAFT-
DESCRIPTION:\n\nMEINE TITEL FINDET IHR AUCH AUF SPOTIFY UND YOUTUBE:\n\nhtt
 ps://open.spotify.com/intl-de/artist/06VEEi6qBOWpQ8DA3Dmgmh?si=IROWjKnPSea
 0Ieu-XWMcQg\n\n&nbsp\;
ATTACH;FMTTYPE=image/jpeg:https://www.andrewoermann.de/wp-content/uploads/
 2023/07/Unendlich-weit-TV.jpg
END:VEVENT
BEGIN:VTIMEZONE
TZID:Europe/Berlin
X-LIC-LOCATION:Europe/Berlin
BEGIN:STANDARD
DTSTART:20241027T020000
TZOFFSETFROM:+0200
TZOFFSETTO:+0100
TZNAME:CET
END:STANDARD
END:VTIMEZONE
END:VCALENDAR