BEGIN:VCALENDAR
VERSION:2.0
PRODID:-//wp-events-plugin.com//7.2.3.1//EN
TZID:Europe/Berlin
X-WR-TIMEZONE:Europe/Berlin
BEGIN:VEVENT
UID:382@andrewoermann.de
DTSTART;TZID=Europe/Berlin:20240808T143000
DTEND;TZID=Europe/Berlin:20240808T151500
DTSTAMP:20240805T050655Z
URL:https://www.andrewoermann.de/events/cranger-kirmes-2024-mit-andre-woer
 mann/
SUMMARY:Cranger Kirmes 2024 mit Andre Wörmann
DESCRIPTION:\n\n \nSeniorennachmittag auf Crange kehrt zurück\nDie „alte
 “ Cranger Kirmes ist gerade mal ein paar Monate her\, schon dreht sich a
 lles um die Ausgabe im Jahr 2024. Passend dazu kehrt der Seniorennachmitta
 g wieder zurück\, der in den vergangenen beiden Jahren ausgefallen war - 
 2020 und 2021 fiel bekanntlich die ganze Kirmes der Corona-Pandemie zum Op
 fer.\n„Er soll wieder am zweiten Donnerstag\, also 8. August 2024\, im B
 ayern-Zelt über die Bühne gehen. Veranstalter ist wieder die Verkehrswac
 ht Wanne-Eickel“\, erläutert Werner Friedhoff\, Fachbereichsleiter für
  Öffentliche Ordnung.\nSENIORENNACHMITTAG / GESCHLOSSENE GESELLSCHAFT
ATTACH;FMTTYPE=image/jpeg:https://www.andrewoermann.de/wp-content/uploads/
 2024/08/Schlagersaenger-Andre-Woermann-Crange-2024.jpg
END:VEVENT
BEGIN:VTIMEZONE
TZID:Europe/Berlin
X-LIC-LOCATION:Europe/Berlin
BEGIN:DAYLIGHT
DTSTART:20240331T030000
TZOFFSETFROM:+0100
TZOFFSETTO:+0200
TZNAME:CEST
END:DAYLIGHT
END:VTIMEZONE
END:VCALENDAR