BEGIN:VCALENDAR
VERSION:2.0
PRODID:-//wp-events-plugin.com//7.2.3.1//EN
TZID:Europe/Berlin
X-WR-TIMEZONE:Europe/Berlin
BEGIN:VEVENT
UID:65@andrewoermann.de
DTSTART;TZID=Europe/Berlin:20230514T140000
DTEND;TZID=Europe/Berlin:20230514T144500
DTSTAMP:20230509T195235Z
URL:https://www.andrewoermann.de/events/altstadtfest-eickel-schlagerrevue-
 2023/
SUMMARY:Eickeler Altstadtfest - Herne - Schlager Revue 2023
DESCRIPTION:\n\nOPEN AIR // EINTRITT FREI // MIT VERSCHIEDENEN KÜNSTLERN /
 / ICH FREUE MICH AUF EUCH!!!
ATTACH;FMTTYPE=image/jpeg:https://www.andrewoermann.de/wp-content/uploads/
 2023/01/Krefelder-Rennbahn_-mit-Anna-Maria-Zimmermann_Joerg-Bausch.jpg
LOCATION:https://www.google.de/maps/place/Eickeler+Markt,+44651+Herne/@51.5
 148089,7.1795081,19.75z/data=!4m6!3m5!1s0x47b8e11a5108c6eb:0x777a5437afa55
 d8!8m2!3d51.514648!4d7.17944!16s%2Fg%2F1tlvnm6y
END:VEVENT
BEGIN:VTIMEZONE
TZID:Europe/Berlin
X-LIC-LOCATION:Europe/Berlin
BEGIN:DAYLIGHT
DTSTART:20230326T030000
TZOFFSETFROM:+0100
TZOFFSETTO:+0200
TZNAME:CEST
END:DAYLIGHT
END:VTIMEZONE
END:VCALENDAR