BEGIN:VCALENDAR
VERSION:2.0
PRODID:-//wp-events-plugin.com//7.2.3.1//EN
TZID:Europe/Berlin
X-WR-TIMEZONE:Europe/Berlin
BEGIN:VEVENT
UID:223@andrewoermann.de
DTSTART;TZID=Europe/Berlin:20231117T140000
DTEND;TZID=Europe/Berlin:20231117T170000
DTSTAMP:20230925T060011Z
URL:https://www.andrewoermann.de/events/adventsmarkt-in-witten-annen/
SUMMARY:Adventsmarkt in Castrop Rauxel
DESCRIPTION:GESCHLOSSENE GESELLSCHAFT\n\n
ATTACH;FMTTYPE=image/jpeg:https://www.andrewoermann.de/wp-content/uploads/
 2023/01/Andre-Woermann-2022.jpg
END:VEVENT
BEGIN:VTIMEZONE
TZID:Europe/Berlin
X-LIC-LOCATION:Europe/Berlin
BEGIN:STANDARD
DTSTART:20231029T020000
TZOFFSETFROM:+0200
TZOFFSETTO:+0100
TZNAME:CET
END:STANDARD
END:VTIMEZONE
END:VCALENDAR